BEGIN:VCALENDAR
VERSION:2.0
PRODID:-//Godly Play deutsch e.V. - ECPv6.15.20//NONSGML v1.0//EN
CALSCALE:GREGORIAN
METHOD:PUBLISH
X-ORIGINAL-URL:https://godlyplay.de
X-WR-CALDESC:Veranstaltungen für Godly Play deutsch e.V.
REFRESH-INTERVAL;VALUE=DURATION:PT1H
X-Robots-Tag:noindex
X-PUBLISHED-TTL:PT1H
BEGIN:VTIMEZONE
TZID:Europe/Paris
BEGIN:DAYLIGHT
TZOFFSETFROM:+0100
TZOFFSETTO:+0200
TZNAME:CEST
DTSTART:20240331T010000
END:DAYLIGHT
BEGIN:STANDARD
TZOFFSETFROM:+0200
TZOFFSETTO:+0100
TZNAME:CET
DTSTART:20241027T010000
END:STANDARD
BEGIN:DAYLIGHT
TZOFFSETFROM:+0100
TZOFFSETTO:+0200
TZNAME:CEST
DTSTART:20250330T010000
END:DAYLIGHT
BEGIN:STANDARD
TZOFFSETFROM:+0200
TZOFFSETTO:+0100
TZNAME:CET
DTSTART:20251026T010000
END:STANDARD
BEGIN:DAYLIGHT
TZOFFSETFROM:+0100
TZOFFSETTO:+0200
TZNAME:CEST
DTSTART:20260329T010000
END:DAYLIGHT
BEGIN:STANDARD
TZOFFSETFROM:+0200
TZOFFSETTO:+0100
TZNAME:CET
DTSTART:20261025T010000
END:STANDARD
END:VTIMEZONE
BEGIN:VEVENT
DTSTART;TZID=Europe/Paris:20251122T100000
DTEND;TZID=Europe/Paris:20251122T150000
DTSTAMP:20260420T151539
CREATED:20251007T142714Z
LAST-MODIFIED:20251007T142714Z
UID:10000103-1763805600-1763823600@godlyplay.de
SUMMARY:KENNENLERNTAG IN SÜDERBRARUP
DESCRIPTION:Wir laden herzlich ein zu einem Einführungsseminar für ein spirituelles und religionspädagogisches Modell\, das Kinder\, Jugendliche und Erwachsene zu einer lebendigen Beziehung zur biblischen Botschaft hinführen will: Godly Play hilft\, biblische Geschichten spielerisch zu erkunden und individuell zu vertiefen.\nGodly Play ist interessant für den Religionsunterricht\, für Kindergottesdienst\, Arbeit in der KiTa und für die gemeindliche Arbeit mit. Godly Play lehnt sich an die Montessori-Pädagogik an.\nWir vermitteln Grundlagen und zeigen und reflektieren eine Auswahl von Godly Play Einheiten. Zudem erhält jede:r ein ausführliches Handout. \nBitte bringen Sie warme Socken mit! \nKosten: 15\,00€ incl. Mittagessen\nAnmeldung bis zum 16.11.2025
URL:https://godlyplay.de/event/kennenlerntag-in-suederbrarup/
LOCATION:Gemeindezentrum der Kirchengemeinde Süderbrarup\, Holmer Str. 3a\, Süderbrarup\, Schleswig-Holstein\, 24392\, Germany
CATEGORIES:Kennenlerntag,Startseite,Startseite Basiskurse
END:VEVENT
END:VCALENDAR