BEGIN:VCALENDAR
VERSION:2.0
PRODID:-//Godly Play deutsch e.V. - ECPv6.15.20//NONSGML v1.0//EN
CALSCALE:GREGORIAN
METHOD:PUBLISH
X-ORIGINAL-URL:https://godlyplay.de
X-WR-CALDESC:Veranstaltungen für Godly Play deutsch e.V.
REFRESH-INTERVAL;VALUE=DURATION:PT1H
X-Robots-Tag:noindex
X-PUBLISHED-TTL:PT1H
BEGIN:VTIMEZONE
TZID:Europe/Paris
BEGIN:DAYLIGHT
TZOFFSETFROM:+0100
TZOFFSETTO:+0200
TZNAME:CEST
DTSTART:20250330T010000
END:DAYLIGHT
BEGIN:STANDARD
TZOFFSETFROM:+0200
TZOFFSETTO:+0100
TZNAME:CET
DTSTART:20251026T010000
END:STANDARD
BEGIN:DAYLIGHT
TZOFFSETFROM:+0100
TZOFFSETTO:+0200
TZNAME:CEST
DTSTART:20260329T010000
END:DAYLIGHT
BEGIN:STANDARD
TZOFFSETFROM:+0200
TZOFFSETTO:+0100
TZNAME:CET
DTSTART:20261025T010000
END:STANDARD
BEGIN:DAYLIGHT
TZOFFSETFROM:+0100
TZOFFSETTO:+0200
TZNAME:CEST
DTSTART:20270328T010000
END:DAYLIGHT
BEGIN:STANDARD
TZOFFSETFROM:+0200
TZOFFSETTO:+0100
TZNAME:CET
DTSTART:20271031T010000
END:STANDARD
END:VTIMEZONE
BEGIN:VEVENT
DTSTART;TZID=Europe/Paris:20260124T091500
DTEND;TZID=Europe/Paris:20260124T161500
DTSTAMP:20260420T112821
CREATED:20260123T072232Z
LAST-MODIFIED:20260123T072232Z
UID:10000115-1769246100-1769271300@godlyplay.de
SUMMARY:KENNENLERNTAG IN ZÜRICH
DESCRIPTION:Gott spielerisch entdecken und einen neuen Zugang zum Reden über Gott finden – darum geht es bei «Godly Play». \nDas Konzept wurde ursprünglich von Jerome W. Berryman auf der Grundlage der Montessori-Pädagogik für den Kindergottesdienst und die Sonntagsschule entwickelt. Im Zentrum stehen die Begegnung mit biblischen Geschichten und das gemeinsame Theologisieren anhand von Ergründungsfragen. «Godly Play» eignet sich für die Arbeit mit allen Altersstufen – von Kindern bis ins hohe Alter. \nDie Methode wird unter dem Begriff «Gott im Spiel» im deutschsprachigen Raum laufend weiterentwickelt\, was die Anwendungsmöglichkeiten enorm erweitert. \nDer Kurstag gibt Einblick in die Arbeit mit «Godly Play»\, vermittelt die Grundlagen und ermöglicht erste Erfahrungen mit Materialien und Geschichten. Zudem wird reflektiert\, was sich in den Praxisfeldern der Teilnehmenden umsetzen lassen könnte und wo Konzepte und Methoden einer kritischen Sichtweise bedürfen. \nDer Kennenlerntag berechtigt zu einer späteren Teilnahme an einem zertifizierten «Godly Play»-Erzählkurs. \nKurskosten: CHF 50.00 \nDie Zahl der Teilnehmenden ist begrenzt. \nAnmeldeschluss: 18. Januar 2026 \nAnmeldung
URL:https://godlyplay.de/event/kennenlerntag-in-zuerich/
LOCATION:Relimedia Zürich\, Gemeindehausstrasse 11\, Zürich\, 8032\, Switzerland
CATEGORIES:Kennenlerntag,Startseite,Startseite Basiskurse
END:VEVENT
END:VCALENDAR