BEGIN:VCALENDAR
VERSION:2.0
PRODID:-//Godly Play deutsch e.V. - ECPv6.15.20//NONSGML v1.0//EN
CALSCALE:GREGORIAN
METHOD:PUBLISH
X-ORIGINAL-URL:https://godlyplay.de
X-WR-CALDESC:Veranstaltungen für Godly Play deutsch e.V.
REFRESH-INTERVAL;VALUE=DURATION:PT1H
X-Robots-Tag:noindex
X-PUBLISHED-TTL:PT1H
BEGIN:VTIMEZONE
TZID:Europe/Paris
BEGIN:DAYLIGHT
TZOFFSETFROM:+0100
TZOFFSETTO:+0200
TZNAME:CEST
DTSTART:20230326T010000
END:DAYLIGHT
BEGIN:STANDARD
TZOFFSETFROM:+0200
TZOFFSETTO:+0100
TZNAME:CET
DTSTART:20231029T010000
END:STANDARD
BEGIN:DAYLIGHT
TZOFFSETFROM:+0100
TZOFFSETTO:+0200
TZNAME:CEST
DTSTART:20240331T010000
END:DAYLIGHT
BEGIN:STANDARD
TZOFFSETFROM:+0200
TZOFFSETTO:+0100
TZNAME:CET
DTSTART:20241027T010000
END:STANDARD
BEGIN:DAYLIGHT
TZOFFSETFROM:+0100
TZOFFSETTO:+0200
TZNAME:CEST
DTSTART:20250330T010000
END:DAYLIGHT
BEGIN:STANDARD
TZOFFSETFROM:+0200
TZOFFSETTO:+0100
TZNAME:CET
DTSTART:20251026T010000
END:STANDARD
BEGIN:DAYLIGHT
TZOFFSETFROM:+0100
TZOFFSETTO:+0200
TZNAME:CEST
DTSTART:20260329T010000
END:DAYLIGHT
BEGIN:STANDARD
TZOFFSETFROM:+0200
TZOFFSETTO:+0100
TZNAME:CET
DTSTART:20261025T010000
END:STANDARD
BEGIN:DAYLIGHT
TZOFFSETFROM:+0100
TZOFFSETTO:+0200
TZNAME:CEST
DTSTART:20270328T010000
END:DAYLIGHT
BEGIN:STANDARD
TZOFFSETFROM:+0200
TZOFFSETTO:+0100
TZNAME:CET
DTSTART:20271031T010000
END:STANDARD
END:VTIMEZONE
BEGIN:VEVENT
DTSTART;TZID=Europe/Paris:20260224T103000
DTEND;TZID=Europe/Paris:20260226T140000
DTSTAMP:20260421T144025
CREATED:20251005T142807Z
LAST-MODIFIED:20251231T124030Z
UID:10000094-1771929000-1772114400@godlyplay.de
SUMMARY:VERTIEFUNGSKURS IN WILLEBADESSEN
DESCRIPTION:VERTIEFUNGSKURS\nGODLY PLAY – GOTT IM SPIEL. \nEine repräsentative Auswahl der in Deutschland entwickelten Geschichten zur Bibel wird vorgestellt. Diese Einheiten sind Früchte des Adaptionsprozesses von Godly Play in Deutschland und werden unter dem Namen „Gott im Spiel“ (GiS) veröffentlicht.\nIn diesem Kurs können Jesusgeschichten sowie Vertiefungsgeschichten des Altes Testaments kennengelernt\, ausprobiert und gemeinsam ergründet werden. \nKosten: 290 € \nFlyer \nAnmeldung \n  \n 
URL:https://godlyplay.de/event/vertiefungskurs-in-willebadessen/
LOCATION:Die HEGGE – Christliches Bildungswerk\, Hegge 4\, Willebadessen\, 34439
CATEGORIES:Startseite,Startseite weitere Seminare,Vertiefungskurse
END:VEVENT
BEGIN:VEVENT
DTSTART;TZID=Europe/Paris:20251103T093000
DTEND;TZID=Europe/Paris:20251106T170000
DTSTAMP:20260421T144025
CREATED:20250310T161034Z
LAST-MODIFIED:20250326T110355Z
UID:10000082-1762162200-1762448400@godlyplay.de
SUMMARY:ERZÄHLKURS IN WILLEBADESSEN
DESCRIPTION:Erzählkurs zum Godly Play / Gott im Spiel \nFlyer
URL:https://godlyplay.de/event/erzaehlkurs-in-willebadessen/
LOCATION:Die HEGGE – Christliches Bildungswerk\, Hegge 4\, Willebadessen\, 34439
CATEGORIES:Startseite Basiskurse,Zertifizierter Erzählkurs
END:VEVENT
BEGIN:VEVENT
DTSTART;TZID=Europe/Paris:20250901T150000
DTEND;TZID=Europe/Paris:20250905T130000
DTSTAMP:20260421T144025
CREATED:20250209T200903Z
LAST-MODIFIED:20250529T111441Z
UID:10000080-1756738800-1757077200@godlyplay.de
SUMMARY:ERZÄHLKURS IN WUPPERTAL
DESCRIPTION:Pastoralkolleg: Godly Play – zertifizierter Erzählkurs \nGodly Play ist ein religionspädagogischer Ansatz\, der sich an der Pädagogik Maria Montessoris orientiert. Er wurde von Jerome Berryman (USA) in den letzten 35 Jahren entwickelt. Dieser Ansatz möchte Kinder befähigen\, ihre religiöse Sprache zu entwickeln und fördert ihr selbständiges theologisches Denken und Verstehen. Dem dient auch das an Montessori orientierte Raumkonzept. Über das Spiel als der ureigenen Form von Kindern\, sich Dinge anzueignen\, erschließen sich biblische Geschichten. Godly Play folgt einem festen Ritual aus Erzählen mit besonderem Erzählmaterial\, einem Ergründungsgespräch mit ergebnisoffenen Fragen\, einer von den Kindern selbständig gewählten Vertiefungsform und einem gemeinsamen Fest. Das Kolleg ist als Godly Play – Erzählkurs aufgebaut. Sie erleben Godly Play\, lernen eine GP-Stunde zu gestalten und üben die Darbietung einer Geschichte und das anschließende Ergründen ein. Sie können das Kolleg mit dem Godly Play-Erzähler-Zertifikat abschließen. Die Teilnahme ist für Ehrenamtliche und andere Berufsgruppen möglich. \nAnmeldung über das Gemeinsame Pastoralkolleg\, Iserlohner Str. 25\, 58239 Schwerte\, Telefon 02304.755-158 \nKosten:         Bitte beim Pastoralkolleg anfragen! \n 
URL:https://godlyplay.de/event/erzaehlkurs-in-wuppertal/
LOCATION:Internationales Tagungszentrum Wuppertal\, Missionsstraße 9\, Wuppertal\, NRW\, 42285\, Germany
CATEGORIES:Startseite Basiskurse,Zertifizierter Erzählkurs
END:VEVENT
BEGIN:VEVENT
DTSTART;TZID=Europe/Paris:20250617T093000
DTEND;TZID=Europe/Paris:20250617T170000
DTSTAMP:20260421T144025
CREATED:20250310T155331Z
LAST-MODIFIED:20250326T110604Z
UID:10000081-1750152600-1750179600@godlyplay.de
SUMMARY:KENNENLERNTAG IN WILLEBADESSEN
DESCRIPTION:Kennenlerntag zu Godly Play / Gott im Spiel \nFlyer \n 
URL:https://godlyplay.de/event/kennlerntag-in-willebadessen/
LOCATION:Die HEGGE – Christliches Bildungswerk\, Hegge 4\, Willebadessen\, 34439
CATEGORIES:Kennenlerntag,Startseite Basiskurse
END:VEVENT
BEGIN:VEVENT
DTSTART;TZID=Europe/Paris:20250203T090000
DTEND;TZID=Europe/Paris:20250204T163000
DTSTAMP:20260421T144025
CREATED:20250120T174453Z
LAST-MODIFIED:20250120T174814Z
UID:10000070-1738573200-1738686600@godlyplay.de
SUMMARY:KENNENLERNTAGE IN WARBURG
DESCRIPTION:Einführung in Godly Play – Kennenlerntag in Warburg \nIn Godly Play – Kursen können Sie einen neuen religionspädagogischen Ansatz kennenlernen\, bei dem biblische Geschichten erzählt und auf spielerische Weise dargeboten werden. Godly Play basiert auf den Prinzipien der Pädagogik von Maria Montessori und möchte Kindern (und Erwachsenen) die Möglichkeit geben\, ihre Spiritualität zu entdecken und wachsen zu lassen. Dabei beachtet Godly Play besonders das Spiel und das In-Geschichten-Leben als zwei wesentliche Formen der kindlichen Welterschließung. Godly Play gründet auf der theologischen Überzeugung\, dass sich Gott im Leben jedes Menschen erfahrbar  machen möchte. „In den meisten Konzepten religiöser Erziehung wird den Kindern gesagt\, wer Gott sei. In Godly Play entdecken dies die Kinder selbst.“ Anhand von Erzähleinheiten und Reflexionen wird die Möglichkeit gegeben\, Godly Play kennenzulernen und selbst zu erproben. \nAn diesen Kennenlerntagen wird das Konzept des Godly Play in Grundzügen erläutert und praktisch erfahrbar gemacht. Inhaltlich werden der Raum als vorbereitete Umgebung\, der typische Ablauf einer Godly Play-Einheit und die Rollen der beteiligten Erwachsenen behandelt. Zudem kommt die Unterscheidung der drei Genres Glaubensgeschichten\, Gleichnisse und liturgische Einheiten in den Blick. Auch wird die Spiritualität von Kindern als theologische Grundlage von Godly Play erörtert. Sie können Godly Play – Darbietungen erleben und diese Erfahrung gemeinsam reflektieren. Außerdem wird nach den Möglichkeiten der praktischen Umsetzung dieses Ansatzes gefragt. \nHinweis: Der Nachweis eines Kennenlernens von Godly Play ist Voraussetzung für die Teilnahme an einem Erzählkurs \nKosten: 239\,00 €\nAnmeldeschluss: 29.01.2025\nMaximale Teilnehmer:innenzahl: 12\nKursnummer: Q03HHBE048 \nAnsprechpartnerin: Beatrice Gievers  \nAnmeldung \n  \n 
URL:https://godlyplay.de/event/kennenlerntage-in-warburg/
LOCATION:Katholische Landesvolkshochschule Hardehausen\, Abt-Overgaer-Str. 1\, Warburg\, 34414\, Germany
CATEGORIES:Kennenlerntag,Startseite Basiskurse
END:VEVENT
BEGIN:VEVENT
DTSTART;TZID=Europe/Paris:20241104T093000
DTEND;TZID=Europe/Paris:20241107T170000
DTSTAMP:20260421T144025
CREATED:20240713T172207Z
LAST-MODIFIED:20250209T110149Z
UID:10000043-1730712600-1730998800@godlyplay.de
SUMMARY:ERZÄHLKURS IN WILLEBADESSEN-NIESEN
DESCRIPTION:Godly Play – Erzählkurs\nIn diesem Kurs erfolgt die zertifizierte Ausbildung zur Godly Play-Erzählerin\, zum -Erzähler. Die Fähigkeiten zum Geschichten-Erzählen sowie zum Leiten des Ergründungsgesprächs und der Kreativphase werden weiterentwickelt.\nSie lernen viele Godly Play-Einheiten kennen. Sie erzählen und ergründen selbst eine Geschichte und sind dabei\, wenn andere ihre Geschichten erzählen. Sie erhalten jeweils konstruktive Rückmeldungen und werden im Verlauf der vier Tage selber zu Expertinnen und Experten im Godly Play / Gott im Spiel. \nHinweise:\nIm Erzählkurs erzählt jede Teilnehmerin\, jeder Teilnehmer eine Geschichte; zu Beginn des Kurses werden ausgewählte Texte verteilt.\nIm Erzählkurs wird es jeweils am Vormittag\, Nachmittag und Abend eine Arbeitseinheit geben\, etwa von 9.30 bis 20.30 Uhr.\nAbschließend wird das Zertifikat zur Godly Play-Erzählerin\, zum Godly Play-Erzähler ausgestellt. \nKurse für alle in Kita\, Gemeinde\, Familienbildung und Schule Tätigen \nSeminarleitung: Dr. Anne Kirsch\, Die HEGGE\nReferentinnen: Dr. Delia Freudenreich\, Paderborn und Christiane Zimmermann-Fröb\, Velbert \nAnmeldung und Information:\nDie HEGGE – Christliches Bildungswerk\n34439 Willebadessen-Niesen\nTel: 05644/400\nE-Mail: bildungswerk@die-hegge.de\nwww.die-hegge.de
URL:https://godlyplay.de/event/erzaehlkurs-in-willebadessen-niesen/
LOCATION:Die HEGGE – Christliches Bildungswerk\, Hegge 4\, Willebadessen\, 34439
CATEGORIES:Startseite Basiskurse,Zertifizierter Erzählkurs
END:VEVENT
BEGIN:VEVENT
DTSTART;TZID=Europe/Paris:20241008T093000
DTEND;TZID=Europe/Paris:20241008T170000
DTSTAMP:20260421T144025
CREATED:20240713T171344Z
LAST-MODIFIED:20240713T171655Z
UID:10000042-1728379800-1728406800@godlyplay.de
SUMMARY:KENNENLERNTAG IN WILLEBADESSEN-NIESEN
DESCRIPTION:Godly Play – Kennenlerntag in Willebadessen-Niesen \nIn diesem Einführungskurs wird das Konzept des Godly Play / Gott im Spiel in Grundzügen erläutert und durch Erzählbeispiele praktisch erfahrbar gemacht. Dabei stehen drei Godly Play-Einheiten im Mittelpunkt: ausgewählte Bibeltexte werden im Godly Play neu lebendig. Inhaltlich werden der typische Ablauf einer Einheit\, der Raum als vorbereitete Umgebung und die Rollen der beteiligten Erwachsenen behandelt. Auch kommt die Unterscheidung der Genres Glaubensgeschichten\, Gleichnisse und liturgische Einheiten in den Blick. Zudem wird die Spiritualität von Kindern als theologische Grundlage erörtert. Des Weiteren werden Möglichkeiten der praktischen Umsetzung des Godly Play in verschiedenen Kontexten und Arbeitsfeldern aufgezeigt. \nHinweis: Der Nachweis eines Kennenlerntages ist Voraussetzung zur Teilnahme am Erzählkurs. \nKurse für alle in Kita\, Gemeinde\, Familienbildung und Schule Tätigen\nSeminarleitung: Dr. Anne Kirsch\, Die HEGGE\nReferentin: Dr. Delia Freudenreich\, Paderborn \nAnmeldung und Information:\nDie HEGGE – Christliches Bildungswerk\n34439 Willebadessen-Niesen\nTel: 05644/400\nE-Mail: bildungswerk@die-hegge.de\nwww.die-hegge.de
URL:https://godlyplay.de/event/kennenlerntag-in-willebadessen-niesen/
LOCATION:Die HEGGE – Christliches Bildungswerk\, Hegge 4\, Willebadessen\, 34439
CATEGORIES:Kennenlerntag
END:VEVENT
BEGIN:VEVENT
DTSTART;TZID=Europe/Paris:20240416T080000
DTEND;TZID=Europe/Paris:20240418T170000
DTSTAMP:20260421T144025
CREATED:20240202T155715Z
LAST-MODIFIED:20240206T194849Z
UID:10000017-1713254400-1713459600@godlyplay.de
SUMMARY:AUFBAUKURS
DESCRIPTION:Im Aufbaukurs wird es darum gehen\, Kenntnisse zu vertiefen\, Erfahrungen auszutauschen und das Repertoire an biblischen Geschichten zu erweitern. \nDaher werden „neue“ Gott im Spiel Geschichten aus dem Alten und dem Neuen Testament vorgestellt aus und ausprobiert werden. Jeder Teilnehmer\, jede Teilnehmerin wird eine der Geschichten selber spielen und mit den anderen ergründen. \nDer Kurs richtet sich daher an schon ausgebildete Erzäherlinnen und Erzähler. \nWeitere Informationen gibt es hier: https://die-hegge.de/event/godly-play-gott-im-spiel-15/
URL:https://godlyplay.de/event/aufbaukurs/
LOCATION:Die HEGGE – Christliches Bildungswerk\, Hegge 4\, Willebadessen\, 34439
CATEGORIES:Startseite weitere Seminare,Vertiefungskurse
END:VEVENT
END:VCALENDAR