BEGIN:VCALENDAR
VERSION:2.0
PRODID:-//Godly Play deutsch e.V. - ECPv6.15.20//NONSGML v1.0//EN
CALSCALE:GREGORIAN
METHOD:PUBLISH
X-WR-CALNAME:Godly Play deutsch e.V.
X-ORIGINAL-URL:https://godlyplay.de
X-WR-CALDESC:Veranstaltungen für Godly Play deutsch e.V.
REFRESH-INTERVAL;VALUE=DURATION:PT1H
X-Robots-Tag:noindex
X-PUBLISHED-TTL:PT1H
BEGIN:VTIMEZONE
TZID:Europe/Paris
BEGIN:DAYLIGHT
TZOFFSETFROM:+0100
TZOFFSETTO:+0200
TZNAME:CEST
DTSTART:20240331T010000
END:DAYLIGHT
BEGIN:STANDARD
TZOFFSETFROM:+0200
TZOFFSETTO:+0100
TZNAME:CET
DTSTART:20241027T010000
END:STANDARD
BEGIN:DAYLIGHT
TZOFFSETFROM:+0100
TZOFFSETTO:+0200
TZNAME:CEST
DTSTART:20250330T010000
END:DAYLIGHT
BEGIN:STANDARD
TZOFFSETFROM:+0200
TZOFFSETTO:+0100
TZNAME:CET
DTSTART:20251026T010000
END:STANDARD
BEGIN:DAYLIGHT
TZOFFSETFROM:+0100
TZOFFSETTO:+0200
TZNAME:CEST
DTSTART:20260329T010000
END:DAYLIGHT
BEGIN:STANDARD
TZOFFSETFROM:+0200
TZOFFSETTO:+0100
TZNAME:CET
DTSTART:20261025T010000
END:STANDARD
BEGIN:DAYLIGHT
TZOFFSETFROM:+0100
TZOFFSETTO:+0200
TZNAME:CEST
DTSTART:20270328T010000
END:DAYLIGHT
BEGIN:STANDARD
TZOFFSETFROM:+0200
TZOFFSETTO:+0100
TZNAME:CET
DTSTART:20271031T010000
END:STANDARD
END:VTIMEZONE
BEGIN:VEVENT
DTSTART;TZID=Europe/Paris:20260128T110000
DTEND;TZID=Europe/Paris:20260131T130000
DTSTAMP:20260424T134348
CREATED:20251005T151625Z
LAST-MODIFIED:20251007T114437Z
UID:10000098-1769598000-1769864400@godlyplay.de
SUMMARY:ERZÄHLKURS IN LUDWIGSLUST
DESCRIPTION:Zertifizierter Erzählkurs \nGodly Play / Gott im Spiel ist ein Konzept spiritueller Bildung das Kinder\, Jugendliche und Erwachsene einlädt\, den großen Fragen und Geheimnissen des Lebens nachzuspüren. Im Mittelpunkt steht das spielerische Entdecken von Bibel und Glaube. Dabei werden Impulse aus der Montessori – Pädagogik mit Inhalten des christlichen Glaubens verbunden. In dieser Erzähler:innenausbildung werden das Konzept\, die Erzählweise und das Vertiefen vorgestellt und erlernt\, sich mit den Fragen des Theologisierens auseinandergesetzt und das Material erkundet. Alle Teilnehmende werden sich je eine Geschichte erarbeiten und vorstellen. \nWichtig ist\, dass an einem Kennenlerntag teilgenommen wurde. Kennenlerntage in der Nordkircke (Flyer) \nDer zu zahlende Teilnehmer*innenbeitrag umfasst die Seminargebühren- und Materialien sowie die Übernachtung und Verpflegung \nGebühr 240 € \nAnmeldung
URL:https://godlyplay.de/event/erzaehlkurs-in-ludwigslust/
LOCATION:Pädagogisch-Theoologisches Institut der Nordkirche – Mecklenburg-Vorpommern\, Bahnhofstraße 23\, Ludwigslust\, Mecklenburg-Vorpommern\, 19288\, Germany
CATEGORIES:Startseite,Startseite Basiskurse,Zertifizierter Erzählkurs
END:VEVENT
BEGIN:VEVENT
DTSTART;TZID=Europe/Paris:20251122T100000
DTEND;TZID=Europe/Paris:20251122T150000
DTSTAMP:20260424T134348
CREATED:20251007T142714Z
LAST-MODIFIED:20251007T142714Z
UID:10000103-1763805600-1763823600@godlyplay.de
SUMMARY:KENNENLERNTAG IN SÜDERBRARUP
DESCRIPTION:Wir laden herzlich ein zu einem Einführungsseminar für ein spirituelles und religionspädagogisches Modell\, das Kinder\, Jugendliche und Erwachsene zu einer lebendigen Beziehung zur biblischen Botschaft hinführen will: Godly Play hilft\, biblische Geschichten spielerisch zu erkunden und individuell zu vertiefen.\nGodly Play ist interessant für den Religionsunterricht\, für Kindergottesdienst\, Arbeit in der KiTa und für die gemeindliche Arbeit mit. Godly Play lehnt sich an die Montessori-Pädagogik an.\nWir vermitteln Grundlagen und zeigen und reflektieren eine Auswahl von Godly Play Einheiten. Zudem erhält jede:r ein ausführliches Handout. \nBitte bringen Sie warme Socken mit! \nKosten: 15\,00€ incl. Mittagessen\nAnmeldung bis zum 16.11.2025
URL:https://godlyplay.de/event/kennenlerntag-in-suederbrarup/
LOCATION:Gemeindezentrum der Kirchengemeinde Süderbrarup\, Holmer Str. 3a\, Süderbrarup\, Schleswig-Holstein\, 24392\, Germany
CATEGORIES:Kennenlerntag,Startseite,Startseite Basiskurse
END:VEVENT
BEGIN:VEVENT
DTSTART;TZID=Europe/Paris:20251114T183000
DTEND;TZID=Europe/Paris:20251114T203000
DTSTAMP:20260424T134348
CREATED:20251007T115805Z
LAST-MODIFIED:20251022T152057Z
UID:10000102-1763145000-1763152200@godlyplay.de
SUMMARY:KENNENLERNTAG ONLINE
DESCRIPTION:Wir laden herzlich ein zu einem Einführungsseminar für ein spirituelles und religionspädagogisches Modell\, das Kinder zu einer lebendigen Beziehung zur biblischen Botschaft hinführen will: Godly Play hilft\, mit Kindern biblische Geschichten spielerisch zu erkunden und individuell zu vertiefen.  Godly Play ist interessant für den Religionsunterricht\, für Kindergottesdienst\, Arbeit in der KiTa und für die gemeindliche Arbeit mit Kindern. Godly Play lehnt sich an die Montessori-Pädagogik an. \nHinweis: Die Teilnahme am Einführungsseminar ist Voraussetzung für die Teilnahme an der zertifizierten Erzähler:innen- Ausbildung\, die vom 28.-31.01.2025 im Kirchlichen Bildungshaus in Ludwigslust statt. \nAnmeldung bis zum 10.11.2025
URL:https://godlyplay.de/event/kennenlerntag-online/
CATEGORIES:Kennenlerntag,Startseite,Startseite Basiskurse
END:VEVENT
BEGIN:VEVENT
DTSTART;TZID=Europe/Paris:20251108T100000
DTEND;TZID=Europe/Paris:20251108T150000
DTSTAMP:20260424T134348
CREATED:20251007T115133Z
LAST-MODIFIED:20251007T141537Z
UID:10000101-1762596000-1762614000@godlyplay.de
SUMMARY:KENNENLERNTAG IN WARDER (SCHLESWIG-HOLSTEIN)
DESCRIPTION:Wir laden herzlich ein zu einem Einführungsseminar für ein spirituelles und religionspädagogisches Modell\, das Kinder\, Jugendliche und Erwachsene zu einer lebendigen Beziehung zur biblischen Botschaft hinführen will: Godly Play hilft\, biblische Geschichten spielerisch zu erkunden und individuell zu vertiefen.\nGodly Play ist interessant für den Religionsunterricht\, für Kindergottesdienst\, Arbeit in der KiTa und für die gemeindliche Arbeit mit. Godly Play lehnt sich an die Montessori-Pädagogik an.\nWir vermitteln Grundlagen und zeigen und reflektieren eine Auswahl von Godly Play Einheiten. Zudem erhält jede:r ein ausführliches Handout. \nBitte bringen Sie warme Socken mit! \nKosten: 15\,00€ incl. Mittagessen\nAnmeldung bis zum 01.11.2025
URL:https://godlyplay.de/event/kennenlerntag-in-warder-schleswig-holstein/
LOCATION:Pastorat Kirche Wader\, Kirchweg 2\, Rohlstorf\, Schlewsig-Holstein\, 23821\, Germany
CATEGORIES:Kennenlerntag,Startseite,Startseite Basiskurse
END:VEVENT
END:VCALENDAR