BEGIN:VCALENDAR
VERSION:2.0
PRODID:-//Godly Play deutsch e.V. - ECPv6.15.20//NONSGML v1.0//EN
CALSCALE:GREGORIAN
METHOD:PUBLISH
X-WR-CALNAME:Godly Play deutsch e.V.
X-ORIGINAL-URL:https://godlyplay.de
X-WR-CALDESC:Veranstaltungen für Godly Play deutsch e.V.
REFRESH-INTERVAL;VALUE=DURATION:PT1H
X-Robots-Tag:noindex
X-PUBLISHED-TTL:PT1H
BEGIN:VTIMEZONE
TZID:Europe/Paris
BEGIN:DAYLIGHT
TZOFFSETFROM:+0100
TZOFFSETTO:+0200
TZNAME:CEST
DTSTART:20250330T010000
END:DAYLIGHT
BEGIN:STANDARD
TZOFFSETFROM:+0200
TZOFFSETTO:+0100
TZNAME:CET
DTSTART:20251026T010000
END:STANDARD
BEGIN:DAYLIGHT
TZOFFSETFROM:+0100
TZOFFSETTO:+0200
TZNAME:CEST
DTSTART:20260329T010000
END:DAYLIGHT
BEGIN:STANDARD
TZOFFSETFROM:+0200
TZOFFSETTO:+0100
TZNAME:CET
DTSTART:20261025T010000
END:STANDARD
BEGIN:DAYLIGHT
TZOFFSETFROM:+0100
TZOFFSETTO:+0200
TZNAME:CEST
DTSTART:20270328T010000
END:DAYLIGHT
BEGIN:STANDARD
TZOFFSETFROM:+0200
TZOFFSETTO:+0100
TZNAME:CET
DTSTART:20271031T010000
END:STANDARD
END:VTIMEZONE
BEGIN:VEVENT
DTSTART;TZID=Europe/Paris:20260223T190000
DTEND;TZID=Europe/Paris:20260223T203000
DTSTAMP:20260424T102046
CREATED:20260123T143155Z
LAST-MODIFIED:20260123T143155Z
UID:10000126-1771873200-1771878600@godlyplay.de
SUMMARY:REGIO-TREFFEN IN LEONBERG - ONLINE
DESCRIPTION:Herzliche Einladung zu unserem Regio-Treffen\, das dieses Mal online stattfindet. \nWir werden eine Geschichte von Beate hören\, diese ergründen und anschließend Themen besprechen\, die unsere Region betreffen. \nMeldet euch bitte bei Madeleine Leitz (leitz@godlyplay.de) an\, damit wir den Link rechtzeitig versenden können. \nEure Regio-Leitung \n 
URL:https://godlyplay.de/event/regio-treffen-in-leonberg-online/
LOCATION:Online\, Online
CATEGORIES:RG Württemberg
END:VEVENT
BEGIN:VEVENT
DTSTART;TZID=Europe/Paris:20260131T093000
DTEND;TZID=Europe/Paris:20260131T150000
DTSTAMP:20260424T102046
CREATED:20251205T111230Z
LAST-MODIFIED:20260123T123842Z
UID:10000105-1769851800-1769871600@godlyplay.de
SUMMARY:REGIO-TREFFEN IN LEONBERG
DESCRIPTION:Regio-Treffen am 31.01.2026\nHerzliche Einladung an alle Godly Play-Begeisterte!\nWir wollen in Leonberg um 9:30 Uhr gemeinsam den Raum richten und dann um 10:00 Uhr in eine Godly Play-Einheit zu einer alttestamentlichen Geschichte eintauchen. Das gemeinsame Mittagessen lässt Zeit für persönliche Gespräche und führt dann zu einem kollegialen Austausch: Wie geht es uns gerade (mit Godly Play)? Was steht in diesem Jahr an? Welche Wünsche gibt es? In dieser Runde können eigene Erfahrungen und Fragen eingebracht und dann gemeinsam reflektiert werden. Anschließend sammeln wir mögliche Themen für den Studientag im Oktober. Das Regio-Treffen endet um ca. 15 Uhr. \nAnmeldung bis zum 22.01.2026 \n 
URL:https://godlyplay.de/event/regio-treffen-in-leonberg/
LOCATION:Versöhnungskirche Leonberg\, Königsberger Straße 11\, Baden-Württemberg\, 71229
CATEGORIES:RG Württemberg
END:VEVENT
END:VCALENDAR